BEGIN:VCALENDAR
VERSION:2.0
PRODID:-//Camp Mishewah - ECPv6.15.20//NONSGML v1.0//EN
CALSCALE:GREGORIAN
METHOD:PUBLISH
X-ORIGINAL-URL:https://mishewah.ecmcamps.ca
X-WR-CALDESC:Events for Camp Mishewah
REFRESH-INTERVAL;VALUE=DURATION:PT1H
X-Robots-Tag:noindex
X-PUBLISHED-TTL:PT1H
BEGIN:VTIMEZONE
TZID:America/Toronto
BEGIN:DAYLIGHT
TZOFFSETFROM:-0500
TZOFFSETTO:-0400
TZNAME:EDT
DTSTART:20230312T070000
END:DAYLIGHT
BEGIN:STANDARD
TZOFFSETFROM:-0400
TZOFFSETTO:-0500
TZNAME:EST
DTSTART:20231105T060000
END:STANDARD
BEGIN:DAYLIGHT
TZOFFSETFROM:-0500
TZOFFSETTO:-0400
TZNAME:EDT
DTSTART:20240310T070000
END:DAYLIGHT
BEGIN:STANDARD
TZOFFSETFROM:-0400
TZOFFSETTO:-0500
TZNAME:EST
DTSTART:20241103T060000
END:STANDARD
BEGIN:DAYLIGHT
TZOFFSETFROM:-0500
TZOFFSETTO:-0400
TZNAME:EDT
DTSTART:20250309T070000
END:DAYLIGHT
BEGIN:STANDARD
TZOFFSETFROM:-0400
TZOFFSETTO:-0500
TZNAME:EST
DTSTART:20251102T060000
END:STANDARD
END:VTIMEZONE
BEGIN:VEVENT
DTSTART;TZID=America/Toronto:20240728T150000
DTEND;TZID=America/Toronto:20240803T150000
DTSTAMP:20260425T160555
CREATED:20240624T221224Z
LAST-MODIFIED:20240624T221356Z
UID:10446-1722178800-1722697200@mishewah.ecmcamps.ca
SUMMARY:Counsellor Boot Camp
DESCRIPTION:A week of training for Camp Mishewah’s Scamps & Champs and Jr. Teen Counsellors.
URL:https://mishewah.ecmcamps.ca/event/counsellor-boot-camp/
LOCATION:Camp Mishewah\, 4422 Round Lake R.\, Killaloe\, Ontario\, Canada
CATEGORIES:Youth Camps
ORGANIZER;CN="Camp Mishewah":MAILTO:mishewah@ecmcamps.ca
END:VEVENT
END:VCALENDAR