BEGIN:VCALENDAR
VERSION:2.0
PRODID:-//Camp Mishewah - ECPv6.15.20//NONSGML v1.0//EN
CALSCALE:GREGORIAN
METHOD:PUBLISH
X-WR-CALNAME:Camp Mishewah
X-ORIGINAL-URL:https://mishewah.ecmcamps.ca
X-WR-CALDESC:Events for Camp Mishewah
REFRESH-INTERVAL;VALUE=DURATION:PT1H
X-Robots-Tag:noindex
X-PUBLISHED-TTL:PT1H
BEGIN:VTIMEZONE
TZID:America/Toronto
BEGIN:DAYLIGHT
TZOFFSETFROM:-0500
TZOFFSETTO:-0400
TZNAME:EDT
DTSTART:20230312T070000
END:DAYLIGHT
BEGIN:STANDARD
TZOFFSETFROM:-0400
TZOFFSETTO:-0500
TZNAME:EST
DTSTART:20231105T060000
END:STANDARD
BEGIN:DAYLIGHT
TZOFFSETFROM:-0500
TZOFFSETTO:-0400
TZNAME:EDT
DTSTART:20240310T070000
END:DAYLIGHT
BEGIN:STANDARD
TZOFFSETFROM:-0400
TZOFFSETTO:-0500
TZNAME:EST
DTSTART:20241103T060000
END:STANDARD
BEGIN:DAYLIGHT
TZOFFSETFROM:-0500
TZOFFSETTO:-0400
TZNAME:EDT
DTSTART:20250309T070000
END:DAYLIGHT
BEGIN:STANDARD
TZOFFSETFROM:-0400
TZOFFSETTO:-0500
TZNAME:EST
DTSTART:20251102T060000
END:STANDARD
END:VTIMEZONE
BEGIN:VEVENT
DTSTART;VALUE=DATE:20240804
DTEND;VALUE=DATE:20240811
DTSTAMP:20260425T160322
CREATED:20231226T165651Z
LAST-MODIFIED:20231227T224352Z
UID:8596-1722729600-1723334399@mishewah.ecmcamps.ca
SUMMARY:Scamps & Champs
DESCRIPTION:
URL:https://mishewah.ecmcamps.ca/event/scamps-champs-2/
LOCATION:Camp Mishewah\, 4422 Round Lake R.\, Killaloe\, Ontario\, Canada
CATEGORIES:Youth Camps
ORGANIZER;CN="Camp Mishewah":MAILTO:mishewah@ecmcamps.ca
END:VEVENT
END:VCALENDAR