BEGIN:VCALENDAR
VERSION:2.0
PRODID:-//Camp Mishewah - ECPv6.15.20//NONSGML v1.0//EN
CALSCALE:GREGORIAN
METHOD:PUBLISH
X-WR-CALNAME:Camp Mishewah
X-ORIGINAL-URL:https://mishewah.ecmcamps.ca
X-WR-CALDESC:Events for Camp Mishewah
REFRESH-INTERVAL;VALUE=DURATION:PT1H
X-Robots-Tag:noindex
X-PUBLISHED-TTL:PT1H
BEGIN:VTIMEZONE
TZID:America/Toronto
BEGIN:DAYLIGHT
TZOFFSETFROM:-0500
TZOFFSETTO:-0400
TZNAME:EDT
DTSTART:20230312T070000
END:DAYLIGHT
BEGIN:STANDARD
TZOFFSETFROM:-0400
TZOFFSETTO:-0500
TZNAME:EST
DTSTART:20231105T060000
END:STANDARD
BEGIN:DAYLIGHT
TZOFFSETFROM:-0500
TZOFFSETTO:-0400
TZNAME:EDT
DTSTART:20240310T070000
END:DAYLIGHT
BEGIN:STANDARD
TZOFFSETFROM:-0400
TZOFFSETTO:-0500
TZNAME:EST
DTSTART:20241103T060000
END:STANDARD
BEGIN:DAYLIGHT
TZOFFSETFROM:-0500
TZOFFSETTO:-0400
TZNAME:EDT
DTSTART:20250309T070000
END:DAYLIGHT
BEGIN:STANDARD
TZOFFSETFROM:-0400
TZOFFSETTO:-0500
TZNAME:EST
DTSTART:20251102T060000
END:STANDARD
END:VTIMEZONE
BEGIN:VEVENT
DTSTART;VALUE=DATE:20240906
DTEND;VALUE=DATE:20240909
DTSTAMP:20260425T142459
CREATED:20231226T165451Z
LAST-MODIFIED:20231226T165451Z
UID:8594-1725580800-1725839999@mishewah.ecmcamps.ca
SUMMARY:Fall Bikers Weekend
DESCRIPTION:
URL:https://mishewah.ecmcamps.ca/event/fall-bikers-weekend-2/
LOCATION:Camp Mishewah\, 4422 Round Lake R.\, Killaloe\, Ontario\, Canada
ORGANIZER;CN="Camp Mishewah":MAILTO:mishewah@ecmcamps.ca
END:VEVENT
END:VCALENDAR