BEGIN:VCALENDAR
VERSION:2.0
PRODID:-//Camp Mishewah - ECPv6.15.20//NONSGML v1.0//EN
CALSCALE:GREGORIAN
METHOD:PUBLISH
X-WR-CALNAME:Camp Mishewah
X-ORIGINAL-URL:https://mishewah.ecmcamps.ca
X-WR-CALDESC:Events for Camp Mishewah
REFRESH-INTERVAL;VALUE=DURATION:PT1H
X-Robots-Tag:noindex
X-PUBLISHED-TTL:PT1H
BEGIN:VTIMEZONE
TZID:America/Toronto
BEGIN:DAYLIGHT
TZOFFSETFROM:-0500
TZOFFSETTO:-0400
TZNAME:EDT
DTSTART:20230312T070000
END:DAYLIGHT
BEGIN:STANDARD
TZOFFSETFROM:-0400
TZOFFSETTO:-0500
TZNAME:EST
DTSTART:20231105T060000
END:STANDARD
BEGIN:DAYLIGHT
TZOFFSETFROM:-0500
TZOFFSETTO:-0400
TZNAME:EDT
DTSTART:20240310T070000
END:DAYLIGHT
BEGIN:STANDARD
TZOFFSETFROM:-0400
TZOFFSETTO:-0500
TZNAME:EST
DTSTART:20241103T060000
END:STANDARD
BEGIN:DAYLIGHT
TZOFFSETFROM:-0500
TZOFFSETTO:-0400
TZNAME:EDT
DTSTART:20250309T070000
END:DAYLIGHT
BEGIN:STANDARD
TZOFFSETFROM:-0400
TZOFFSETTO:-0500
TZNAME:EST
DTSTART:20251102T060000
END:STANDARD
END:VTIMEZONE
BEGIN:VEVENT
DTSTART;TZID=America/Toronto:20240630T130000
DTEND;TZID=America/Toronto:20240706T110000
DTSTAMP:20260425T160300
CREATED:20231226T164741Z
LAST-MODIFIED:20240609T213214Z
UID:8586-1719752400-1720263600@mishewah.ecmcamps.ca
SUMMARY:Family Camp Week 1
DESCRIPTION:Our countdown for Family Camp 2024 started the day we left in 2023!  During week one of Family camp we have a wonderful ministry team coming to lead us into the presence of God and who will help train and equip us to approach the trials of these present days with holiness and love for God. When we think of camp\, we think of refreshing. We are living in difficult days\, and we want to see your family come and leave REFRESHED. We will have family fun activities throughout the week\, along with dynamic ministries running for your entire family\, where everyone can learn\, grow and have fun!
URL:https://mishewah.ecmcamps.ca/event/family-camp-week-1-2/
LOCATION:Camp Mishewah\, 4422 Round Lake R.\, Killaloe\, Ontario\, Canada
CATEGORIES:Family Camps
ORGANIZER;CN="Camp Mishewah":MAILTO:mishewah@ecmcamps.ca
END:VEVENT
BEGIN:VEVENT
DTSTART;TZID=America/Toronto:20240707T130000
DTEND;TZID=America/Toronto:20240713T110000
DTSTAMP:20260425T160300
CREATED:20231226T164932Z
LAST-MODIFIED:20240609T213406Z
UID:8588-1720357200-1720868400@mishewah.ecmcamps.ca
SUMMARY:Family Camp Week 2
DESCRIPTION:During Week 2 you can look forward to connecting with God and each other in the amazing setting of Camp Mishewah with lots of time at the beach\, campfires\, a family Game Show night\, a Talent Show\, special events for kids and youth as well as some friendly competition between four teams of families.
URL:https://mishewah.ecmcamps.ca/event/family-camp-week-2-2/
LOCATION:Camp Mishewah\, 4422 Round Lake R.\, Killaloe\, Ontario\, Canada
CATEGORIES:Family Camps
ORGANIZER;CN="Camp Mishewah":MAILTO:mishewah@ecmcamps.ca
END:VEVENT
BEGIN:VEVENT
DTSTART;TZID=America/Toronto:20240714T130000
DTEND;TZID=America/Toronto:20240720T110000
DTSTAMP:20260425T160300
CREATED:20231226T165114Z
LAST-MODIFIED:20240609T213509Z
UID:8590-1720962000-1721473200@mishewah.ecmcamps.ca
SUMMARY:Family Camp Week 3
DESCRIPTION:Get ready for an unforgettable week at Family Camp #3! Immerse yourself in all Mishewah has to offer with a variety of waterfront activities including kayaking\, canoeing\, fishing\, and swimming. Connect deeply with others and form lasting memories through daily activities\, meals\, and evenings around the campfire. Start each day on a meaningful note with chapels in the morning and participate in special kids and youth activities tailored to their interests and skills. With plenty of opportunities to make new friends\, try new things\, and grow closer to God\, this is an amazing chance for families of all shapes and sizes looking to disconnect and spend quality time together.
URL:https://mishewah.ecmcamps.ca/event/family-camp-week-3-2/
LOCATION:Camp Mishewah\, 4422 Round Lake R.\, Killaloe\, Ontario\, Canada
CATEGORIES:Family Camps
ORGANIZER;CN="Camp Mishewah":MAILTO:mishewah@ecmcamps.ca
END:VEVENT
BEGIN:VEVENT
DTSTART;TZID=America/Toronto:20240721T130000
DTEND;TZID=America/Toronto:20240727T110000
DTSTAMP:20260425T160300
CREATED:20231226T165248Z
LAST-MODIFIED:20231226T165259Z
UID:8592-1721566800-1722078000@mishewah.ecmcamps.ca
SUMMARY:Family Camp Week 4
DESCRIPTION:
URL:https://mishewah.ecmcamps.ca/event/family-camp-week-4-2/
LOCATION:Camp Mishewah\, 4422 Round Lake R.\, Killaloe\, Ontario\, Canada
CATEGORIES:Family Camps
ORGANIZER;CN="Camp Mishewah":MAILTO:mishewah@ecmcamps.ca
END:VEVENT
BEGIN:VEVENT
DTSTART;TZID=America/Toronto:20240728T150000
DTEND;TZID=America/Toronto:20240803T150000
DTSTAMP:20260425T160300
CREATED:20240624T221224Z
LAST-MODIFIED:20240624T221356Z
UID:10446-1722178800-1722697200@mishewah.ecmcamps.ca
SUMMARY:Counsellor Boot Camp
DESCRIPTION:A week of training for Camp Mishewah’s Scamps & Champs and Jr. Teen Counsellors.
URL:https://mishewah.ecmcamps.ca/event/counsellor-boot-camp/
LOCATION:Camp Mishewah\, 4422 Round Lake R.\, Killaloe\, Ontario\, Canada
CATEGORIES:Youth Camps
ORGANIZER;CN="Camp Mishewah":MAILTO:mishewah@ecmcamps.ca
END:VEVENT
END:VCALENDAR